BEGIN:VCALENDAR
VERSION:2.0
PRODID:-//Minnesota Hindu Milan Mandir - ECPv6.15.15//NONSGML v1.0//EN
CALSCALE:GREGORIAN
METHOD:PUBLISH
X-ORIGINAL-URL:https://minnesotahindumilanmandir.com
X-WR-CALDESC:Events for Minnesota Hindu Milan Mandir
REFRESH-INTERVAL;VALUE=DURATION:PT1H
X-Robots-Tag:noindex
X-PUBLISHED-TTL:PT1H
BEGIN:VTIMEZONE
TZID:UTC
BEGIN:STANDARD
TZOFFSETFROM:+0000
TZOFFSETTO:+0000
TZNAME:UTC
DTSTART:20230101T000000
END:STANDARD
END:VTIMEZONE
BEGIN:VTIMEZONE
TZID:America/Chicago
BEGIN:DAYLIGHT
TZOFFSETFROM:-0600
TZOFFSETTO:-0500
TZNAME:CDT
DTSTART:20230312T080000
END:DAYLIGHT
BEGIN:STANDARD
TZOFFSETFROM:-0500
TZOFFSETTO:-0600
TZNAME:CST
DTSTART:20231105T070000
END:STANDARD
BEGIN:DAYLIGHT
TZOFFSETFROM:-0600
TZOFFSETTO:-0500
TZNAME:CDT
DTSTART:20240310T080000
END:DAYLIGHT
BEGIN:STANDARD
TZOFFSETFROM:-0500
TZOFFSETTO:-0600
TZNAME:CST
DTSTART:20241103T070000
END:STANDARD
BEGIN:DAYLIGHT
TZOFFSETFROM:-0600
TZOFFSETTO:-0500
TZNAME:CDT
DTSTART:20250309T080000
END:DAYLIGHT
BEGIN:STANDARD
TZOFFSETFROM:-0500
TZOFFSETTO:-0600
TZNAME:CST
DTSTART:20251102T070000
END:STANDARD
BEGIN:DAYLIGHT
TZOFFSETFROM:-0600
TZOFFSETTO:-0500
TZNAME:CDT
DTSTART:20260308T080000
END:DAYLIGHT
BEGIN:STANDARD
TZOFFSETFROM:-0500
TZOFFSETTO:-0600
TZNAME:CST
DTSTART:20261101T070000
END:STANDARD
END:VTIMEZONE
BEGIN:VTIMEZONE
TZID:Asia/Kolkata
BEGIN:STANDARD
TZOFFSETFROM:+0530
TZOFFSETTO:+0530
TZNAME:IST
DTSTART:20230101T000000
END:STANDARD
END:VTIMEZONE
BEGIN:VEVENT
DTSTART;TZID=UTC:20260123T100000
DTEND;TZID=UTC:20260123T210000
DTSTAMP:20260420T143129
CREATED:20200909T090228Z
LAST-MODIFIED:20251231T041337Z
UID:2061-1769162400-1769202000@minnesotahindumilanmandir.com
SUMMARY:Basant Panchami Event
DESCRIPTION:Experience the vibrant festivities of Basant Panchami at Hindu Milan Mandir\, Minnesota. Join in prayers\, cultural performances\, and the joy of welcoming spring. Celebrate the occasion with reverence and enthusiasm.
URL:https://minnesotahindumilanmandir.com/event/basant-panchami/
LOCATION:Minnesota Hindu Milan Mandir\, 501 Walnut St\, Farmington\, MN 55024\, Minnesota\, MN\, United States
CATEGORIES:Festival,Minnesota Hindu Milan Mandir Events
ATTACH;FMTTYPE=image/png:https://minnesotahindumilanmandir.com/wp-content/uploads/2020/09/flat-vasant-panchami-celebration-background_23-2149933930.png
END:VEVENT
BEGIN:VEVENT
DTSTART;TZID=UTC:20260114T100000
DTEND;TZID=UTC:20260114T170000
DTSTAMP:20260420T143129
CREATED:20200909T090227Z
LAST-MODIFIED:20251231T041259Z
UID:2060-1768384800-1768410000@minnesotahindumilanmandir.com
SUMMARY:Makar Sankranti Event
DESCRIPTION:Celebrate the joyous Makar Sankranti at Hindu Milan Mandir\, Minnesota\, with colorful kites\, traditional rituals\, and festive fervor. Embrace the spirit of unity and renewal as the community rejoices together.
URL:https://minnesotahindumilanmandir.com/event/makar-sankranti/
LOCATION:Minnesota Hindu Milan Mandir\, 501 Walnut St\, Farmington\, MN 55024\, Minnesota\, MN\, United States
CATEGORIES:Festival,Minnesota Hindu Milan Mandir Events
ATTACH;FMTTYPE=image/png:https://minnesotahindumilanmandir.com/wp-content/uploads/2020/09/makar-sankranti-celebration-at-different-places.png
END:VEVENT
BEGIN:VEVENT
DTSTART;VALUE=DATE:20260114
DTEND;VALUE=DATE:20260115
DTSTAMP:20260420T143129
CREATED:20240103T193653Z
LAST-MODIFIED:20251231T041317Z
UID:21228-1768348800-1768435199@minnesotahindumilanmandir.com
SUMMARY:Pongal/Lohri
DESCRIPTION:Pongal\, celebrated in South India\, and Lohri\, in North India\, mark the harvest festival with joyful gatherings\, traditional rituals\, and feasts. Both festivals symbolize gratitude and abundance in diverse cultural expressions.
URL:https://minnesotahindumilanmandir.com/event/pongal-lohri/
CATEGORIES:Festival
ATTACH;FMTTYPE=image/jpeg:https://minnesotahindumilanmandir.com/wp-content/uploads/2024/01/3fbaba6842ad169ea82bb4297dfa8b22.jpg
END:VEVENT
BEGIN:VEVENT
DTSTART;TZID=America/Chicago:20251020T000000
DTEND;TZID=America/Chicago:20251020T000000
DTSTAMP:20260420T143129
CREATED:20241015T125054Z
LAST-MODIFIED:20250724T151459Z
UID:22401-1760918400-1760918400@minnesotahindumilanmandir.com
SUMMARY:Lakshmi Puja
DESCRIPTION:Lakshmi Puja celebrates Goddess Lakshmi\, the deity of wealth and prosperity. Devotees perform rituals\, offer prayers\, and decorate homes\, seeking blessings for abundance and good fortune during Diwali.
URL:https://minnesotahindumilanmandir.com/event/lakshmi-puja/
CATEGORIES:Festival
ATTACH;FMTTYPE=image/png:https://minnesotahindumilanmandir.com/wp-content/uploads/2024/10/71cee0b0-249c-4a57-889f-538405a7eadc.png
END:VEVENT
BEGIN:VEVENT
DTSTART;TZID=America/Chicago:20250817T080000
DTEND;TZID=America/Chicago:20250817T170000
DTSTAMP:20260420T143129
CREATED:20240729T053715Z
LAST-MODIFIED:20250724T151401Z
UID:22392-1755417600-1755450000@minnesotahindumilanmandir.com
SUMMARY:Nand Utsav
DESCRIPTION:Nand Utsav is a festival celebrating the birth of Lord Krishna\, specifically honoring Nand Baba\, Krishna’s father\, with festivities\, offerings\, and joy.
URL:https://minnesotahindumilanmandir.com/event/nand-utsav/
CATEGORIES:Festival
ATTACH;FMTTYPE=image/jpeg:https://minnesotahindumilanmandir.com/wp-content/uploads/2024/07/21271c75e9c22cc2e9bd2268e992b314.jpg
END:VEVENT
BEGIN:VEVENT
DTSTART;TZID=America/Chicago:20250816T180000
DTEND;TZID=America/Chicago:20250817T020000
DTSTAMP:20260420T143129
CREATED:20240729T053540Z
LAST-MODIFIED:20250724T151359Z
UID:22389-1755367200-1755396000@minnesotahindumilanmandir.com
SUMMARY:Krishna Janmashtami
DESCRIPTION:Krishna Janmashtami celebrates the birth of Lord Krishna\, marked by fasting\, devotional songs\, dance\, and reenactments of Krishna’s life.
URL:https://minnesotahindumilanmandir.com/event/krishna-janmashtami/
LOCATION:Minnesota Hindu Milan Mandir\, 501 Walnut St\, Farmington\, MN 55024\, Minnesota\, MN\, United States
CATEGORIES:Festival,Minnesota Hindu Milan Mandir Events
ATTACH;FMTTYPE=image/jpeg:https://minnesotahindumilanmandir.com/wp-content/uploads/2024/07/86868397385518e641ae1339e8b9c1f5-1.jpg
END:VEVENT
BEGIN:VEVENT
DTSTART;TZID=America/Chicago:20250809T100000
DTEND;TZID=America/Chicago:20250809T170000
DTSTAMP:20260420T143129
CREATED:20240729T051055Z
LAST-MODIFIED:20250724T151259Z
UID:22383-1754733600-1754758800@minnesotahindumilanmandir.com
SUMMARY:Raksha Bandhan
DESCRIPTION:Raksha Bandhan falls on August 19th\, but celebrations will be held on August 18th at Hindu Milan Mandir in Minnesota. Join us to honor this special bond of love and protection.
URL:https://minnesotahindumilanmandir.com/event/raksha-bandhan/
LOCATION:Minnesota Hindu Milan Mandir\, 501 Walnut St\, Farmington\, MN 55024\, Minnesota\, MN\, United States
CATEGORIES:Festival,Minnesota Hindu Milan Mandir Events
ATTACH;FMTTYPE=image/jpeg:https://minnesotahindumilanmandir.com/wp-content/uploads/2024/07/images.jpeg
END:VEVENT
BEGIN:VEVENT
DTSTART;TZID=America/Chicago:20250808T180000
DTEND;TZID=America/Chicago:20250808T233000
DTSTAMP:20260420T143129
CREATED:20240729T045851Z
LAST-MODIFIED:20250724T151257Z
UID:22378-1754676000-1754695800@minnesotahindumilanmandir.com
SUMMARY:Vara Laxmi Vrat
DESCRIPTION:Varalakshmi Vrat is a Hindu festival celebrated by married women who fast and pray for the well-being and prosperity of their families\, honoring Goddess Lakshmi.
URL:https://minnesotahindumilanmandir.com/event/vara-laxmi-vrat/
LOCATION:Minnesota Hindu Milan Mandir\, 501 Walnut St\, Farmington\, MN 55024\, Minnesota\, MN\, United States
CATEGORIES:Festival,Minnesota Hindu Milan Mandir Events
ATTACH;FMTTYPE=image/jpeg:https://minnesotahindumilanmandir.com/wp-content/uploads/2024/07/596300de9219d46802518b2889194d1d.jpg
END:VEVENT
BEGIN:VEVENT
DTSTART;TZID=America/Chicago:20250729T180000
DTEND;TZID=America/Chicago:20250729T233000
DTSTAMP:20260420T143129
CREATED:20240423T215210Z
LAST-MODIFIED:20250724T151118Z
UID:22288-1753812000-1753831800@minnesotahindumilanmandir.com
SUMMARY:Naag Panchami
DESCRIPTION:Naag Panchami is a Hindu festival dedicated to worshipping serpents\, especially the Nāga deities\, to seek protection and blessings\, and to honor the importance of snakes in mythology.
URL:https://minnesotahindumilanmandir.com/event/naag-panchami/
LOCATION:Minnesota Hindu Milan Mandir\, 501 Walnut St\, Farmington\, MN 55024\, Minnesota\, MN\, United States
CATEGORIES:Festival,Minnesota Hindu Milan Mandir Events
ATTACH;FMTTYPE=image/jpeg:https://minnesotahindumilanmandir.com/wp-content/uploads/2024/04/282dfda35a5e8cfb1db675a79b67c843.jpg
END:VEVENT
BEGIN:VEVENT
DTSTART;TZID=America/Chicago:20240825T180000
DTEND;TZID=America/Chicago:20240825T233000
DTSTAMP:20260420T143129
CREATED:20240729T052842Z
LAST-MODIFIED:20240729T052858Z
UID:22386-1724608800-1724628600@minnesotahindumilanmandir.com
SUMMARY:Krishna Dandiya Raas
DESCRIPTION:Krishna Dandiya Raas is a joyful dance celebrating Lord Krishna’s playful interactions with the Gopis\, performed with sticks during festivals.
URL:https://minnesotahindumilanmandir.com/event/krishna-dandiya-raas/
LOCATION:Minnesota Hindu Milan Mandir\, 501 Walnut St\, Farmington\, MN 55024\, Minnesota\, MN\, United States
CATEGORIES:Festival,Minnesota Hindu Milan Mandir Events
ATTACH;FMTTYPE=image/png:https://minnesotahindumilanmandir.com/wp-content/uploads/2024/07/Screenshot_8-1.png
END:VEVENT
BEGIN:VEVENT
DTSTART;TZID=Asia/Kolkata:20240721T100000
DTEND;TZID=Asia/Kolkata:20240721T140000
DTSTAMP:20260420T143129
CREATED:20240423T215524Z
LAST-MODIFIED:20240423T215841Z
UID:22308-1721556000-1721570400@minnesotahindumilanmandir.com
SUMMARY:Guru Purnima
DESCRIPTION:Guru Purnima is a spiritual tradition honoring teachers and mentors. It falls on the full moon day in July. Devotees express gratitude\, seek blessings\, and engage in spiritual practices.
URL:https://minnesotahindumilanmandir.com/event/guru-purnima/
LOCATION:Minnesota Hindu Milan Mandir\, 501 Walnut St\, Farmington\, MN 55024\, Minnesota\, MN\, United States
CATEGORIES:Festival,Minnesota Hindu Milan Mandir Events
ATTACH;FMTTYPE=image/jpeg:https://minnesotahindumilanmandir.com/wp-content/uploads/2024/04/5456828.jpg
END:VEVENT
BEGIN:VEVENT
DTSTART;TZID=Asia/Kolkata:20240707T100000
DTEND;TZID=Asia/Kolkata:20240707T140000
DTSTAMP:20260420T143129
CREATED:20240423T214342Z
LAST-MODIFIED:20240423T214954Z
UID:22289-1720346400-1720360800@minnesotahindumilanmandir.com
SUMMARY:Ratha Yathra
DESCRIPTION:Ratha Yatra is a Hindu festival where giant chariots carry deities Jagannath\, Balabhadra\, and Subhadra through the streets. It symbolizes their annual visit to Gundicha Temple\, fostering community participation and devotion.
URL:https://minnesotahindumilanmandir.com/event/ratha-yathra/
LOCATION:Minnesota Hindu Milan Mandir\, 501 Walnut St\, Farmington\, MN 55024\, Minnesota\, MN\, United States
CATEGORIES:Festival,Minnesota Hindu Milan Mandir Events
ATTACH;FMTTYPE=image/jpeg:https://minnesotahindumilanmandir.com/wp-content/uploads/2024/04/5466319-scaled.jpg
END:VEVENT
BEGIN:VEVENT
DTSTART;TZID=Asia/Kolkata:20240622T080000
DTEND;TZID=Asia/Kolkata:20240622T233000
DTSTAMP:20260420T143129
CREATED:20240423T214113Z
LAST-MODIFIED:20240423T214320Z
UID:22290-1719043200-1719099000@minnesotahindumilanmandir.com
SUMMARY:Kabir Jayanti
DESCRIPTION:Kabir Jayanti celebrates the birth anniversary of Sant Kabir\, a revered mystic poet and saint. It honors his teachings of unity\, love\, and spirituality\, inspiring harmony among diverse communities.
URL:https://minnesotahindumilanmandir.com/event/kabir-jayanti/
CATEGORIES:Festival
ATTACH;FMTTYPE=image/webp:https://minnesotahindumilanmandir.com/wp-content/uploads/2024/04/11-Guru-Kabir.jpg.webp
END:VEVENT
BEGIN:VEVENT
DTSTART;TZID=Asia/Kolkata:20240617T200000
DTEND;TZID=Asia/Kolkata:20240617T233000
DTSTAMP:20260420T143129
CREATED:20240423T213858Z
LAST-MODIFIED:20240423T214103Z
UID:22291-1718654400-1718667000@minnesotahindumilanmandir.com
SUMMARY:Id-ul-Zuha (Bakrid)
DESCRIPTION:Eid-ul-Zuha (Bakrid) commemorates the willingness of Ibrahim (Abraham) to sacrifice his son as an act of obedience to God. Muslims worldwide celebrate with prayers\, feasts\, and the distribution of meat.
URL:https://minnesotahindumilanmandir.com/event/id-ul-zuha-bakrid/
CATEGORIES:Festival
ATTACH;FMTTYPE=image/jpeg:https://minnesotahindumilanmandir.com/wp-content/uploads/2024/04/8618-scaled.jpg
END:VEVENT
BEGIN:VEVENT
DTSTART;TZID=Asia/Kolkata:20240606T080000
DTEND;TZID=Asia/Kolkata:20240606T233000
DTSTAMP:20260420T143129
CREATED:20240423T213343Z
LAST-MODIFIED:20240423T213752Z
UID:22283-1717660800-1717716600@minnesotahindumilanmandir.com
SUMMARY:Vat Savitri Vrat
DESCRIPTION:Vat Savitri Vrat is a Hindu fasting ritual observed by married women for the well-being and longevity of their husbands. It involves prayers\, fasting\, and tying threads around banyan trees.
URL:https://minnesotahindumilanmandir.com/event/vat-savitri-vrat/
CATEGORIES:Festival
ATTACH;FMTTYPE=image/png:https://minnesotahindumilanmandir.com/wp-content/uploads/2024/04/Untitled-design-20.png
END:VEVENT
BEGIN:VEVENT
DTSTART;TZID=UTC:20240523T083000
DTEND;TZID=UTC:20240523T233000
DTSTAMP:20260420T143129
CREATED:20240423T210949Z
LAST-MODIFIED:20240423T213233Z
UID:21983-1716453000-1716507000@minnesotahindumilanmandir.com
SUMMARY:Budha Purnima
DESCRIPTION:Buddha Purnima celebrates the birth\, enlightenment\, and death anniversary of Gautama Buddha\, the founder of Buddhism. It is marked with prayers\, meditation\, and acts of compassion\, promoting peace and harmony.
URL:https://minnesotahindumilanmandir.com/event/budha-purnima/
CATEGORIES:Festival
ATTACH;FMTTYPE=image/webp:https://minnesotahindumilanmandir.com/wp-content/uploads/2024/04/prothomalo-english_2020-05_3fe25613-f825-43ee-b3c0-0bee0a0a4f00_buddha.webp
END:VEVENT
BEGIN:VEVENT
DTSTART;TZID=UTC:20240512T100000
DTEND;TZID=UTC:20240512T170000
DTSTAMP:20260420T143129
CREATED:20240103T185919Z
LAST-MODIFIED:20240104T155224Z
UID:21207-1715508000-1715533200@minnesotahindumilanmandir.com
SUMMARY:Shree Shankaracharya Jayanti Event
DESCRIPTION:Mark the divine occasion of Shree Shankaracharya Jayanti at Hindu Milan Mandir\, Minnesota. Engage in prayers\, discourses\, and cultural expressions\, commemorating the profound contributions of Adi Shankaracharya to Hindu philosophy. (Free Luncheon for Mothers)
URL:https://minnesotahindumilanmandir.com/event/shree-shankaracharya-jayanti/
LOCATION:Minnesota Hindu Milan Mandir\, 501 Walnut St\, Farmington\, MN 55024\, Minnesota\, MN\, United States
CATEGORIES:Festival,Minnesota Hindu Milan Mandir Events
ATTACH;FMTTYPE=image/jpeg:https://minnesotahindumilanmandir.com/wp-content/uploads/2024/01/Shankaracharya2.jpg
END:VEVENT
BEGIN:VEVENT
DTSTART;TZID=Asia/Kolkata:20240510T080000
DTEND;TZID=Asia/Kolkata:20240510T233000
DTSTAMP:20260420T143129
CREATED:20240423T210907Z
LAST-MODIFIED:20240423T212829Z
UID:22264-1715328000-1715383800@minnesotahindumilanmandir.com
SUMMARY:Parashuram Jayanti\, Akshaya Tritiya
DESCRIPTION:Parashuram Jayanti honors the birth anniversary of Lord Parashuram\, the sixth avatar of Lord Vishnu\, known for his courage and righteousness. Akshaya Tritiya is a Hindu festival signifying prosperity and abundance.
URL:https://minnesotahindumilanmandir.com/event/parashuram-jayanti-akshaya-tritiya/
CATEGORIES:Festival
ATTACH;FMTTYPE=image/jpeg:https://minnesotahindumilanmandir.com/wp-content/uploads/2024/04/3742136.jpg
END:VEVENT
BEGIN:VEVENT
DTSTART;TZID=Asia/Kolkata:20240507T080000
DTEND;TZID=Asia/Kolkata:20240507T233000
DTSTAMP:20260420T143129
CREATED:20240423T210847Z
LAST-MODIFIED:20240423T212357Z
UID:22265-1715068800-1715124600@minnesotahindumilanmandir.com
SUMMARY:Rabindranath Tagore Jayanti
DESCRIPTION:Rabindranath Tagore Jayanti commemorates the birth anniversary of the prolific Bengali poet\, writer\, and philosopher Rabindranath Tagore. It celebrates his literary legacy and cultural influence across the globe.
URL:https://minnesotahindumilanmandir.com/event/rabindranath-tagore-jayanti/
CATEGORIES:Festival
ATTACH;FMTTYPE=image/webp:https://minnesotahindumilanmandir.com/wp-content/uploads/2024/04/1291120-tagore.webp
END:VEVENT
BEGIN:VEVENT
DTSTART;TZID=Asia/Kolkata:20240501T080000
DTEND;TZID=Asia/Kolkata:20240501T233000
DTSTAMP:20260420T143129
CREATED:20240423T210811Z
LAST-MODIFIED:20240423T211954Z
UID:22266-1714550400-1714606200@minnesotahindumilanmandir.com
SUMMARY:May Day
DESCRIPTION:May Day celebrates laborers and workers worldwide\, honoring their contributions and advocating for labor rights. It symbolizes solidarity\, social justice\, and the ongoing struggle for fair working conditions and wages.
URL:https://minnesotahindumilanmandir.com/event/may-day/
CATEGORIES:Festival
ATTACH;FMTTYPE=image/jpeg:https://minnesotahindumilanmandir.com/wp-content/uploads/2024/04/3638417.jpg
END:VEVENT
BEGIN:VEVENT
DTSTART;TZID=UTC:20240421T100000
DTEND;TZID=UTC:20240421T170000
DTSTAMP:20260420T143129
CREATED:20240103T185439Z
LAST-MODIFIED:20240104T155112Z
UID:21203-1713693600-1713718800@minnesotahindumilanmandir.com
SUMMARY:Mahavir Jayanti Event
DESCRIPTION:Participate in the serene celebration of Mahavir Jayanti at Hindu Milan Mandir\, Minnesota. Engage in prayers\, discourses\, and cultural observances\, honoring the teachings and virtues of Lord Mahavira.
URL:https://minnesotahindumilanmandir.com/event/mahavir-jayanti/
LOCATION:Minnesota Hindu Milan Mandir\, 501 Walnut St\, Farmington\, MN 55024\, Minnesota\, MN\, United States
CATEGORIES:Festival,Minnesota Hindu Milan Mandir Events
ATTACH;FMTTYPE=image/jpeg:https://minnesotahindumilanmandir.com/wp-content/uploads/2024/01/1680707623789.jpeg
END:VEVENT
BEGIN:VEVENT
DTSTART;TZID=UTC:20240420T100000
DTEND;TZID=UTC:20240420T170000
DTSTAMP:20260420T143129
CREATED:20240103T185638Z
LAST-MODIFIED:20240104T154927Z
UID:21205-1713607200-1713632400@minnesotahindumilanmandir.com
SUMMARY:Hanuman Jayanti Event
DESCRIPTION:Celebrate the auspicious occasion of Hanuman Jayanti at Hindu Milan Mandir\, Minnesota. Join devotees in prayers\, hymns\, and cultural activities to honor the mighty Lord Hanuman and seek his blessings.
URL:https://minnesotahindumilanmandir.com/event/hanuman-jayanti/
LOCATION:Minnesota Hindu Milan Mandir\, 501 Walnut St\, Farmington\, MN 55024\, Minnesota\, MN\, United States
CATEGORIES:Festival,Minnesota Hindu Milan Mandir Events
ATTACH;FMTTYPE=image/jpeg:https://minnesotahindumilanmandir.com/wp-content/uploads/2024/01/360_F_493769605_QkkuiQr4CPoSfTzvf3ap1S91lQ2nTAAO.jpg
END:VEVENT
BEGIN:VEVENT
DTSTART;TZID=UTC:20240417T100000
DTEND;TZID=UTC:20240417T170000
DTSTAMP:20260420T143129
CREATED:20240103T185057Z
LAST-MODIFIED:20240104T154734Z
UID:21201-1713348000-1713373200@minnesotahindumilanmandir.com
SUMMARY:End of Navratri - Ram Navmi Event
DESCRIPTION:Conclude the vibrant Navratri festivities at Hindu Milan Mandir\, Minnesota\, with the auspicious celebration of Ram Navmi. Join in prayers\, cultural performances\, and devotional activities\, marking the divine culmination.
URL:https://minnesotahindumilanmandir.com/event/end-of-navratri-ram-navmi/
LOCATION:Minnesota Hindu Milan Mandir\, 501 Walnut St\, Farmington\, MN 55024\, Minnesota\, MN\, United States
CATEGORIES:Festival,Minnesota Hindu Milan Mandir Events
ATTACH;FMTTYPE=image/jpeg:https://minnesotahindumilanmandir.com/wp-content/uploads/2024/01/ram-navami-2021.jpg.optimal.jpg
END:VEVENT
BEGIN:VEVENT
DTSTART;TZID=UTC:20240414T100000
DTEND;TZID=UTC:20240414T140000
DTSTAMP:20260420T143129
CREATED:20200909T090220Z
LAST-MODIFIED:20240104T154506Z
UID:2054-1713088800-1713103200@minnesotahindumilanmandir.com
SUMMARY:Dr. B.R. Ambedkar Jayanti\, Tamil New Year Event
DESCRIPTION:Celebrate the inspiring legacy of Dr. B.R. Ambedkar Jayanti and the joyous Tamil New Year at Hindu Milan Mandir\, Minnesota. Commemorate with cultural events\, discussions\, and traditional festivities. Embrace unity and diversity.
URL:https://minnesotahindumilanmandir.com/event/dr-b-r-ambedkar-jayanti-tamil-new-year/
LOCATION:Minnesota Hindu Milan Mandir\, 501 Walnut St\, Farmington\, MN 55024\, Minnesota\, MN\, United States
CATEGORIES:Festival,Minnesota Hindu Milan Mandir Events
ATTACH;FMTTYPE=image/webp:https://minnesotahindumilanmandir.com/wp-content/uploads/2020/09/illustration-dr-bhimrao-ramji-ambedkar-600nw-2143424255.webp
END:VEVENT
BEGIN:VEVENT
DTSTART;TZID=UTC:20240408T180000
DTEND;TZID=UTC:20240408T210000
DTSTAMP:20260420T143129
CREATED:20200909T090221Z
LAST-MODIFIED:20240104T154415Z
UID:2056-1712599200-1712610000@minnesotahindumilanmandir.com
SUMMARY:Chaitra Navratri begins Event
DESCRIPTION:Embark on a spiritual journey as Chaitra Navratri begins at Hindu Milan Mandir\, Minnesota. Witness devotional rituals\, cultural festivities\, and the invocation of divine blessings\, marking the auspicious nine-night celebration.
URL:https://minnesotahindumilanmandir.com/event/chaitra-navratri-begins/
LOCATION:Minnesota Hindu Milan Mandir\, 501 Walnut St\, Farmington\, MN 55024\, Minnesota\, MN\, United States
CATEGORIES:Festival,Minnesota Hindu Milan Mandir Events
ATTACH;FMTTYPE=image/webp:https://minnesotahindumilanmandir.com/wp-content/uploads/2020/09/shardiya-navratri-2023-nine-days-of-fasting-begin-tradition-significance-history-associated-with-auspicious-hindu-festival.webp
END:VEVENT
BEGIN:VEVENT
DTSTART;TZID=UTC:20240331T130000
DTEND;TZID=UTC:20240331T170000
DTSTAMP:20260420T143129
CREATED:20200909T090226Z
LAST-MODIFIED:20240104T154021Z
UID:2058-1711890000-1711904400@minnesotahindumilanmandir.com
SUMMARY:Holi Event
DESCRIPTION:Immerse yourself in the joyous colors of Holi at Hindu Milan Mandir\, Minnesota. Join the vibrant festivities with music\, dance\, and the playful splashing of colors\, fostering community spirit and harmony.
URL:https://minnesotahindumilanmandir.com/event/holi/
LOCATION:Minnesota Hindu Milan Mandir\, 501 Walnut St\, Farmington\, MN 55024\, Minnesota\, MN\, United States
CATEGORIES:Festival,Minnesota Hindu Milan Mandir Events
ATTACH;FMTTYPE=image/jpeg:https://minnesotahindumilanmandir.com/wp-content/uploads/2023/09/ows_142629350873738.jpg
END:VEVENT
BEGIN:VEVENT
DTSTART;TZID=UTC:20240324T170000
DTEND;TZID=UTC:20240324T210000
DTSTAMP:20260420T143129
CREATED:20200909T090225Z
LAST-MODIFIED:20240104T153920Z
UID:2057-1711299600-1711314000@minnesotahindumilanmandir.com
SUMMARY:Holika Dahan Event
DESCRIPTION:Kindle the sacred bonfire of Holika Dahan at Hindu Milan Mandir\, Minnesota. Gather for rituals\, prayers\, and cultural celebrations\, symbolizing the triumph of good over evil and the onset of spring.
URL:https://minnesotahindumilanmandir.com/event/holika-dahan/
LOCATION:Minnesota Hindu Milan Mandir\, 501 Walnut St\, Farmington\, MN 55024\, Minnesota\, MN\, United States
CATEGORIES:Festival,Minnesota Hindu Milan Mandir Events
ATTACH;FMTTYPE=image/png:https://minnesotahindumilanmandir.com/wp-content/uploads/2020/09/Untitled-design-4.png
END:VEVENT
BEGIN:VEVENT
DTSTART;TZID=UTC:20240308T160000
DTEND;TZID=UTC:20240308T210000
DTSTAMP:20260420T143129
CREATED:20200909T090219Z
LAST-MODIFIED:20240104T153626Z
UID:2053-1709913600-1709931600@minnesotahindumilanmandir.com
SUMMARY:Maha Shivaratri Event
DESCRIPTION:Participate in the spiritual fervor of Maha Shivaratri at Hindu Milan Mandir\, Minnesota. Engage in night-long prayers\, divine chants\, and cultural expressions\, celebrating the cosmic dance of Lord Shiva.
URL:https://minnesotahindumilanmandir.com/event/maha-shivaratri/
LOCATION:Minnesota Hindu Milan Mandir\, 501 Walnut St\, Farmington\, MN 55024\, Minnesota\, MN\, United States
CATEGORIES:Festival,Minnesota Hindu Milan Mandir Events
ATTACH;FMTTYPE=image/jpeg:https://minnesotahindumilanmandir.com/wp-content/uploads/2020/09/download.jpeg
END:VEVENT
BEGIN:VEVENT
DTSTART;VALUE=DATE:20240224
DTEND;VALUE=DATE:20240225
DTSTAMP:20260420T143129
CREATED:20240103T194543Z
LAST-MODIFIED:20240104T153319Z
UID:21240-1708732800-1708819199@minnesotahindumilanmandir.com
SUMMARY:Guru Ravidas Jayanti\, Shab-e-Barat
DESCRIPTION:Guru Ravidas Jayanti celebrates the birth of Sant Ravidas\, a revered saint in Sikhism. Shab-e-Barat\, observed in Islam\, marks the night of forgiveness and prayers for mercy and blessings.
URL:https://minnesotahindumilanmandir.com/event/guru-ravidas-jayanti-shab-e-barat/
CATEGORIES:Festival
ATTACH;FMTTYPE=image/png:https://minnesotahindumilanmandir.com/wp-content/uploads/2024/01/Untitled-design-3.png
END:VEVENT
BEGIN:VEVENT
DTSTART;VALUE=DATE:20240219
DTEND;VALUE=DATE:20240220
DTSTAMP:20260420T143129
CREATED:20240103T194442Z
LAST-MODIFIED:20240104T144916Z
UID:21238-1708300800-1708387199@minnesotahindumilanmandir.com
SUMMARY:Chhatrapati Shivaji Jayanti
DESCRIPTION:Chhatrapati Shivaji Jayanti celebrates the birth anniversary of Chhatrapati Shivaji Maharaj\, the legendary Maratha warrior king. Commemorated with reverence\, it honors his leadership\, valor\, and contributions to Indian history.
URL:https://minnesotahindumilanmandir.com/event/chhatrapati-shivaji-jayanti/
CATEGORIES:Festival
ATTACH;FMTTYPE=image/jpeg:https://minnesotahindumilanmandir.com/wp-content/uploads/2024/01/Who_was_Chhatrapati_Shivaji_Maharaj.jpg
END:VEVENT
END:VCALENDAR